BEGIN:VCALENDAR
VERSION:2.0
PRODID:-//Mother&#039;s Outreach Network - ECPv6.15.20//NONSGML v1.0//EN
CALSCALE:GREGORIAN
METHOD:PUBLISH
X-WR-CALNAME:Mother&#039;s Outreach Network
X-ORIGINAL-URL:https://mothersoutreachnetwork.org
X-WR-CALDESC:Events for Mother&#039;s Outreach Network
REFRESH-INTERVAL;VALUE=DURATION:PT1H
X-Robots-Tag:noindex
X-PUBLISHED-TTL:PT1H
BEGIN:VTIMEZONE
TZID:UTC
BEGIN:STANDARD
TZOFFSETFROM:+0000
TZOFFSETTO:+0000
TZNAME:UTC
DTSTART:20250101T000000
END:STANDARD
END:VTIMEZONE
BEGIN:VEVENT
DTSTART;TZID=UTC:20260319T130000
DTEND;TZID=UTC:20260319T140000
DTSTAMP:20260424T065345
CREATED:20260317T175137Z
LAST-MODIFIED:20260317T175137Z
UID:6036-1773925200-1773928800@mothersoutreachnetwork.org
SUMMARY:DCGIC March Planning and Volunteer Meeting
DESCRIPTION:
URL:https://mothersoutreachnetwork.org/event/dcgic-march-planning-and-volunteer-meeting/
CATEGORIES:DCGIC General Meeting
ATTACH;FMTTYPE=image/png:https://mothersoutreachnetwork.org/wp-content/uploads/2026/03/UPDATED-March-2026-FINAL-DCGIC-Planning-Meeting-Template-not-a-Canva-Template-1080-x-1080-px-1.png
END:VEVENT
END:VCALENDAR