BEGIN:VCALENDAR
VERSION:2.0
PRODID:-//Mother&#039;s Outreach Network - ECPv6.15.20//NONSGML v1.0//EN
CALSCALE:GREGORIAN
METHOD:PUBLISH
X-WR-CALNAME:Mother&#039;s Outreach Network
X-ORIGINAL-URL:https://mothersoutreachnetwork.org
X-WR-CALDESC:Events for Mother&#039;s Outreach Network
REFRESH-INTERVAL;VALUE=DURATION:PT1H
X-Robots-Tag:noindex
X-PUBLISHED-TTL:PT1H
BEGIN:VTIMEZONE
TZID:UTC
BEGIN:STANDARD
TZOFFSETFROM:+0000
TZOFFSETTO:+0000
TZNAME:UTC
DTSTART:20250101T000000
END:STANDARD
END:VTIMEZONE
BEGIN:VEVENT
DTSTART;TZID=UTC:20260428T180000
DTEND;TZID=UTC:20260428T200000
DTSTAMP:20260423T142725
CREATED:20260420T160636Z
LAST-MODIFIED:20260423T063837Z
UID:6129-1777399200-1777406400@mothersoutreachnetwork.org
SUMMARY:Democracy\, Economic Justice & Guaranteed Income: Join the Conversation
DESCRIPTION:
URL:https://mothersoutreachnetwork.org/event/democracy-economic-justice-guaranteed-income-join-the-conversation/
LOCATION:Southwest Neighborhood Library\, 900 Wesley Pl SW\, Washington\, DC\, 20024\, United States
ATTACH;FMTTYPE=image/png:https://mothersoutreachnetwork.org/wp-content/uploads/2026/04/April-28-Meeting-Facebook-Post-1.png
END:VEVENT
BEGIN:VEVENT
DTSTART;TZID=UTC:20260514T180000
DTEND;TZID=UTC:20260514T203000
DTSTAMP:20260423T142725
CREATED:20260313T191602Z
LAST-MODIFIED:20260420T213306Z
UID:6015-1778781600-1778790600@mothersoutreachnetwork.org
SUMMARY:Demanding Dignity Film Series: Storming Caesar's Palace
DESCRIPTION:
URL:https://mothersoutreachnetwork.org/event/demanding-dignity-film-series-storming-caesars-palace/
LOCATION:DC
CATEGORIES:Educational Event
ATTACH;FMTTYPE=image/png:https://mothersoutreachnetwork.org/wp-content/uploads/2026/03/8.5x11-Flyer-Acacias-Version-2.png
END:VEVENT
END:VCALENDAR